BEGIN:VCALENDAR
VERSION:2.0
PRODID:-//Contratero//ES
CALSCALE:GREGORIAN
METHOD:PUBLISH
BEGIN:VEVENT
UID:CONTR 2023 17859@contratero.es
DTSTAMP:20260423T032705Z
DTSTART:20240115T235959
DTEND:20240116T005959
SUMMARY:Cierre: Servicio de soporte y mantenimiento de componentes
DESCRIPTION:Servicio de soporte y mantenimiento de componentes y licencias relativo al programario de gestión económica\, financiera y logística SAP BUSINESS SUITE para los años 2024 y 2025.\\n\\nOrganismo: Consejería de Economía\, Hacienda e Innovación de las Illes Balears\\n\\nVer en Contratero: https://contratero.es/contracts/CONTR 2023 17859
URL:https://contratero.es/contracts/CONTR 2023 17859
STATUS:CONFIRMED
BEGIN:VALARM
TRIGGER:-P1D
ACTION:DISPLAY
DESCRIPTION:Recordatorio: Servicio de soporte y mantenim
END:VALARM
END:VEVENT
END:VCALENDAR